BEGIN:VCALENDAR
VERSION:2.0
PRODID:gruene-langenfeld.de
METHOD:PUBLISH
BEGIN:VTIMEZONE
TZID:Europe/Berlin
X-LIC-LOCATION:Europe/Berlin
BEGIN:DAYLIGHT
TZOFFSETFROM:+0100
TZOFFSETTO:+0200
TZNAME:CEST
DTSTART:19700329T020000
RRULE:FREQ=YEARLY;INTERVAL=1;BYDAY=-1SU;BYMONTH=3
END:DAYLIGHT
BEGIN:STANDARD
TZOFFSETFROM:+0200
TZOFFSETTO:+0100
TZNAME:CET
DTSTART:19701025T030000
RRULE:FREQ=YEARLY;INTERVAL=1;BYDAY=-1SU;BYMONTH=10
END:STANDARD
END:VTIMEZONE
BEGIN:VEVENT
UID:fa71d697cc9b387a4631865eba80a227@gruene-langenfeld.de
URL;VALUE=URI:https://gruene-langenfeld.de/termine/kino-im-zirkuszelt/
LOCATION:Freizeitpark, Langenfeld
SUMMARY:Kino im Zirkuszelt
DESCRIPTION;ALTREP="data:text/html,Wir%20zeigen%3A%26nbsp%3B%20zwei%20zu%
 20eins%0D%0AEintritt%20frei%20-%20Einlass%20um%2019%20Uhr%0D%0A%0D%0Af%C3
 %BCr%20Verpflegung%20wird%20gesorgt%0D%0A%0D%0A%26nbsp%3B":Wir zeigen:  
 zwei zu eins\n\nEintritt frei - Einlass um 19 Uhr\n\nfür Verpflegung wir
 d gesorgt\n\n 
CLASS:PUBLIC
DTSTART;TZID=Europe/Berlin:20250822T193000
DTEND;TZID=Europe/Berlin:20250822T220000
DTSTAMP:20260421T094217
END:VEVENT
END:VCALENDAR